Workbook

Sheet Introduction
B2: Hello there, This excel document will help you to forward your configuration request to your Customer Success Manager. Cooperlink has defined a well-proven process to help you with the implementation of Cooperlink on your project
B4: Request - Please follow the steps from A to K and forward it to your Customer Success Manager
C5: A. Information about project
C6: B. Information about internal users
C7: C-D. Define and invite your partners
C8: E-F. Define the shared documents structure and access rights of the workspace
C9: G. Set up libraries (external sources of information)
C10: H. Map your workspace to your Document Management System
C11: I. Set the approval workflows
C12: J. Identifiy the properties and data structure of your workspace
C13: K. Identify existing documents and requirements
B15: Legend
C16: Expected answers from client
C17: Expected answers from client relating to data integratin with corporate tools
C18: Fields reserved for Cooperlink Customer Success
B20: Configuration
C21: Your Customer Success Manager will proceed to configuration and inform you when it's done
B23: Training
C24: Book a meeting with your Customer Success Manager, your key users and partners for a training session of 1 hour
B26: Your are now ready to start on Cooperlink

Sheet A. Project
A1: A. Project information
A2: A0. Points of contact
B3: Role | C3: Name | D3: Mobile phone | E3: Email adress
B4: Project manager at your side
B5: IT manager at your side
B6: Cooperlink Responsible
B7: Cooperlink Delivery Engineer
A9: A1. Project | C9: Your input
B10: Name | C10: COMPANY PROJECT
B11: Short name | C11: CP
B12: Picture of the project | C12: Copy paste in excel
A14: Divide your project into workspaces with your partners according to collaboration needs
A15: A2. Workspaces
B16: Name | C16: Sharing rule (for the whole workspace) | D16: Purpose
B17: Partner workspace | C17: Manual sharing | D17: PUBLISH environment (approval of documents within project commitee - Driven by Contractors)
B18: Joint Venture | C18: Automatic sharing | D18: WIP / SHARE environment for the members of the JV
A23: Configuration actions
B24: 1. Create a project
B25: 2. Create the workspace(s)

Sheet B. Internal users
A1: C1. Define administrators that need access to the project
A2: First Name | B2: Last Name | C2: Email | D2: Avatar (picture) | E2: Workspace Access level (2) | F2: Cooperlink Access Level (1)
A3: Lee | B3: Cooper | C3: lee@cooperlink.io | E3: Project responsible | F3: Site administrator
A6: C2. Define project members
A7: First Name | B7: Last Name | C7: Email | D7: Avatar (picture) | E7: Workspace Access level (2) | F7: Cooperlink Access Level (1)
A8: Tom | B8: Iron | C8: tom@cooperlink.io | E8: Project responsible | F8: Basic user
A26: Note (1) | B26: General roles and permissions for the Cooperlink application (see link) | D26: https://help.cooperlink.io/docs/en/user-terminology-and-general-roles-permissions
A27: Note (2) | B27: Roles and permissions for project members (see link) | D27: https://help.cooperlink.io/docs/en/roles-and-permissions-for-project-members
B28: Roles and permissions for workspace members (see link) | D28: https://help.cooperlink.io/docs/en/roles-and-permissions-for-the-members-of-a-workspace
A31: Configuration actions
B32: 1. Create users in application settings
B33: 2. Invite users as members through project settings > members
B34: Tip: invite internal users only when project is fully configured

Sheet C-D. Partners
A1: C-D. Partners information
A2: PARTNER COMPANIES
A3: Role | B3: Info | C3: Company name | D3: Company Logo | E3: Partner type | F3: Role and permissions (1)
A4: AR | B4: Architect | C4: ARCHI Company | E4: Free guest | F4: Workspace guest
A5: STAB | B5: Stability Engineers | C5: STAB Company | E5: Free guest | F5: Workspace guest
A6: MEP | B6: MEP Engineers | C6: MEP Company | E6: Free guest | F6: Workspace guest
A7: PM | B7: Project Owner | C7: IMMO Company | E7: Free guest | F7: Workspace guest
F8: Workspace guest
F9: Workspace guest
F10: Workspace guest
F11: Workspace guest
F12: Workspace guest
F13: Workspace guest
F14: Workspace guest
F15: Workspace guest
F16: Workspace guest
A18: PARTNERS' CONTACTS
A19: First Name | B19: Last Name | C19: Email | D19: Company name | E19: Role | F19: Role and permissions (1)
A20: Tom | B20: Doe | C20: tom@archicompany.com | D20: ARCHI Company | E20: AR | F20: Workspace guest
A21: Jane | B21: Doe | C21: jane@mepcompany.com | D21: MEP Company | E21: MEP | F21: Workspace guest
A22: John | B22: Doe | C22: john@stabcompany.com | D22: STAB Company | E22: STAB | F22: Workspace guest
F23: Workspace guest
F24: Workspace guest
F25: Workspace guest
F26: Workspace guest
F27: Workspace guest
F28: Workspace guest
F29: Workspace guest
F30: Workspace guest
F31: Workspace guest
F32: Workspace guest
F33: Workspace guest
F34: Workspace guest
... F36: Workspace guest
A38: Note (1) | B38: Roles and permissions for workspace members (see link) | D38: https://help.cooperlink.io/docs/en/roles-and-permissions-for-the-members-of-a-workspace
A41: Configuration actions
B42: 1. In application settings, create partner organization. Provide a square-sized logo
B43: 2. Tip: create dummy contacts per organization (requires + feature enabled on exchange server) eg. partner+namecompany@renotec.be
B44: Rationale: it allows configuring access rights without inviting real users
B45: 3. Invite dummy contacts in workspace settings > partners
B46: 4. When configuration is finished, invite effective partners
B47: Note: roles are for workflows purpose (1 role = 1 contributing party constituted of N contacts)

Sheet E-F. Workspace struct. & rights
A1: F-G. Define workspace structure and assign rights to partners
A2: Workspace name | B2: Folder structure seen by partners in the workspace | C2: Partners access rights
C3: AR | D3: STAB | E3: MEP | F3: PM
B5: Shared structure of information | C5: X: No access - T: Traverse - TR: Read - TRW: Write/Update - TRWD: Write/Update/Delete
A6: Partners | B6: 01. Admin | C6: TR | D6: TR | E6: TR | F6: TR
B7: 02. Plans | C7: T | D7: T | E7: T | F7: T
B8: A. Architectural | C8: TRWD | D8: TR | E8: TR | F8: TR
B9: B. MEP | C9: TR | D9: TR | E9: TRWD | F9: TR
B10: 03. Technical sheets | C10: TR | D10: TR | E10: TR | F10: TR
A36: Configuration actions
B37: 1. Create a new workspace (multi-partner collaboration)
B38: 2. Go to workspace settings
B39: 2a. Use mode loosely coupled during configuration (switch to mirror for production !!)
B40: 2b. Enable access rights

Sheet G. Libraries
A1: B1. Documents & Data Sources (Libraries)
B2: Type | C2: FileServer
B3: URL to project | C3: /0112-36/
B5: Type | C5: Sharepoint O365
B6: URL to project | C6: https://mycompany.sharepoint.com/sites/project1234
B8: Type
B9: URL to project
A11: B2. Define shadow storage
B12: Connector for shadowing
A14: Configuration actions
B15: 1. Create a connector for the documents library
B16: 3. Set document libraries in project settings
B17: 3.a. Set main library
B18: 3.b. Set shadow storage

Sheet H. Mappings
A1: H. Link workspace structure to your tools
A2: Workspace name | B2: Folder structure seen by partners | D2: Folder at the source (your server)
A3: =IF('E-F. Workspace struct. & rights'!A6="","",'E-F. Workspace struct. & rights'!A6) -> Partners | B3: =IF('E-F. Workspace struct. & rights'!B6="","",'E-F. Workspace struct. & rights'!B6) -> 01. Admin | C3: is linked to | D3: /Z-Cooperlink/01. Admin
A4: =IF('E-F. Workspace struct. & rights'!A7="","",'E-F. Workspace struct. & rights'!A7) | B4: =IF('E-F. Workspace struct. & rights'!B7="","",'E-F. Workspace struct. & rights'!B7) -> 02. Plans | C4: is linked to | D4: /Z-Cooperlink/02. Plans
A5: =IF('E-F. Workspace struct. & rights'!A8="","",'E-F. Workspace struct. & rights'!A8) | B5: =IF('E-F. Workspace struct. & rights'!B8="","",'E-F. Workspace struct. & rights'!B8) -> A. Architectural | C5: is mirrored from parent
A6: =IF('E-F. Workspace struct. & rights'!A9="","",'E-F. Workspace struct. & rights'!A9) | B6: =IF('E-F. Workspace struct. & rights'!B9="","",'E-F. Workspace struct. & rights'!B9) -> B. MEP | C6: is mirrored from parent
A7: =IF('E-F. Workspace struct. & rights'!A10="","",'E-F. Workspace struct. & rights'!A10) | B7: =IF('E-F. Workspace struct. & rights'!B10="","",'E-F. Workspace struct. & rights'!B10) -> 03. Technical sheets | C7: is linked to | D7: /Z-Cooperlink/03. Technical Sheets
B8: =IF('E-F. Workspace struct. & rights'!B11="","",'E-F. Workspace struct. & rights'!B11)
B9: =IF('E-F. Workspace struct. & rights'!B12="","",'E-F. Workspace struct. & rights'!B12)
B10: =IF('E-F. Workspace struct. & rights'!B13="","",'E-F. Workspace struct. & rights'!B13)
B11: =IF('E-F. Workspace struct. & rights'!B14="","",'E-F. Workspace struct. & rights'!B14)
B12: =IF('E-F. Workspace struct. & rights'!B15="","",'E-F. Workspace struct. & rights'!B15)
B13: =IF('E-F. Workspace struct. & rights'!B16="","",'E-F. Workspace struct. & rights'!B16)
B14: =IF('E-F. Workspace struct. & rights'!B17="","",'E-F. Workspace struct. & rights'!B17)
B15: =IF('E-F. Workspace struct. & rights'!B18="","",'E-F. Workspace struct. & rights'!B18)
B16: =IF('E-F. Workspace struct. & rights'!B19="","",'E-F. Workspace struct. & rights'!B19)
B17: =IF('E-F. Workspace struct. & rights'!B20="","",'E-F. Workspace struct. & rights'!B20)
B18: =IF('E-F. Workspace struct. & rights'!B21="","",'E-F. Workspace struct. & rights'!B21)
B19: =IF('E-F. Workspace struct. & rights'!B22="","",'E-F. Workspace struct. & rights'!B22)
... B31: =IF('E-F. Workspace struct. & rights'!B34="","",'E-F. Workspace struct. & rights'!B34)
A55: Configuration actions
B56: Important note: set loosely coupled mode for configuration purpose and switch to mirroring mode for production
B57: 1. Create the floating structure (ie. folders not mapped)
B58: 2. Create the mapped structure using the project navigator (ie. mapping points)
B59: Note: children of mapping points will be automatically added

Sheet I. Workflows
A1: For this step, you will be accompanied by your dedicated delivery engineer
A3: J. Define the approval sequences
A4: Here you define who is contributing to the workflow, in which order, and under which configuration
A5: Duplicate the colored cells to create a define a new workflow template.
A8: J1.a. Distribution list
A9: Set START for the partner starting the workflow(s). Set the STEP NUMBER for the other partners
A11: Type | B11: Name | C11: CONTRACTOR | D11: AR | E11: STAB | F11: MEP | G11: PM
A12: 2 steps workflow | B12: Architecture | C12: START | D12: 1* | G12: 2*
A13: 2 steps workflow | B13: Stability | C13: START | D13: 1* | E13: 1* | G13: 2*
A14: 2 steps workflow | B14: MEP | C14: START | D14: 1* | F14: 1* | G14: 2*
A20: (*) Indicate mandatory contributors
A22: J1.b. Parameters
A23: Define the main parameters of the workflow(s)
A25: Parameter | B25: Key | C25: Type | E25: Required? | F25: Default Value
A26: Delay Step 1 | B26: company_project_delay_step1 | C26: Fixed value (not editable) | E26: Yes | F26: 7 WD
A27: Delay Step 2 | B27: company_project_delay_step2 | C27: Fixed value (not editable) | E27: Yes | F27: 3 WD
A30: J1.c. Answer card and visas
A31: Define the fields of the answer card
A32: Fields | B32: Key | C32: Type | E32: Required? | F32: Default Value
A33: Answer | B33: company_project_answer | C33: List of values (single select) | E33: Yes
A34: Comment | B34: company_project_comment | C34: Free text
A36: Define the visas (= status/answers) and their effect on the workflow
A37: Visa | B37: Effect on workflow | C37: Applies to
A38: A|Approved | B38: Continue | C38: All
A39: B|Approve with remarks | B39: Continue | C39: All
A40: C|Refused | B40: Stop | C40: All
A41: D|Acknowledged | B41: Continue | C41: All except PM
A43: (1) Parallel steps only stop when all contributors have completed their task
A45: Configuration actions
B46: 1. Configure workflow start card(s)
B47: 2. Configure workflow answer card(s)
B48: 3. Configure workflow template and presets
B49: 4. Configure cover page report
B50: 5. Configure workflow list report

Sheet J1. Properties
A1: For this step, you will be accompanied by your dedicated delivery engineer
A2: I1. Define the fields / properties used in cards of the project and workspace(s)
A4: I1.a - Document properties
A5: Name | B5: Id | C5: Type | D5: Default value | E5: Required? | F5: Purpose | G5: Additional information
A6: Document type | B6: company_project_document_type | C6: List of values (single select) | E6: Yes | F6: Document type | G6: See J2 > Document Type
A7: Discipline | B7: company_project_package | C7: List of values (single select) | E7: Yes | F7: Package / Discipline | G7: See J2 > Discipline
A8: Auto number | B8: company_project_numero | C8: Automatic number | E8: Yes | F8: Document numbering | G8: Prefixes: Document Type, Discipline
A9: Revision number | B9: company_project_revision | C9: List of values (single select) | F9: Revision index | G9: See J2 > Revision Number
A10: Description | B10: company_project_description | C10: Free text
A11: Ref. Specifications | B11: company_project_specifications | C11: Free text | F11: Reference to specifications
A12: Manufacturer | B12: company_project_manufacturer | C12: Free text | F12: Reference to manufacturer
A13: Supplier | B13: company_project_supplier | C13: Free text | F13: Reference to supplier
A14: Product | B14: company_project_product | C14: Free text | F14: Reference to product
A26: I1.b. Workflows properties
A27: Name | B27: Id | C27: Type | D27: Default value | E27: Required? | F27: Purpose | G27: Additional information
A28: Review description | B28: company_project_review_description | C28: Free text | F28: Give insights about changes in revision
A29: Title | B29: company_project_title | C29: Free text | E29: Yes | F29: Title (short description)
A30: Description | B30: company_project_description | C30: Free text | F30: Long description
A31: Conformity? | B31: company_project_conformity | C31: List of values (single select) | D31: Yes | E31: Yes | F31: Conformity to specifications | G31: See J2 > Advanced bool value list
A32: Sample? | B32: company_project_sample | C32: List of values (single select) | D32: No | E32: yes | G32: See J2 > Advanced bool value list
A33: Financial impact? | B33: company_project_financial_impact | C33: List of values (single select) | D33: No | E33: Yes | G33: See J2 > Advanced bool value list
A34: Geolocation | B34: company_project_plan | C34: Free text | F34: Indication of location on plan
A35: Annexes | B35: company_project_annexes | C35: Free text | F35: Information about annexes
A36: Archive Status | B36: company_project_workflow_status | C36: List of values (single select) | D36: Active | E36: Yes | F36: Archive status | G36: See J2 > Archive status
A37: + reuse properties from document
A50: Configuration actions
B51: Tip: value lists are provided in the next sheet. Use the format "key|value (key)"
B52: 1. Create workspace card (possibility to duplicate from another project, and then use advance editor to change metadata keys)
B53: 2. Create document card (idem)
B54: 3. Go in project settings > General > Documents and choose the document card
B55: 4. Go in workspace settings > Advanced > Documents and choose the document card
B56: 5. Go in workspace settings > Dashboard and set the workspace card
B57: 6. Go in workspace dashboard and defined default values

Sheet J2. Value lists
A1: For this steps, you will be accompanied by your dedicated delivery engineer
A3: I2. Define the value lists
A5: Doc. Type | B5: List of values | E5: Package | F5: List of values | I5: Ref. Specif. | J5: List of values | M5: Revision | N5: List of values | Q5: Advanced Bool | R5: List of values | T5: Archive Status | U5: List of values
A6: AD | B6: Administration | C6: =A6&"|"&B6&" ("&A6&")" -> AD|Administration (AD) | E6: GENE | F6: General | G6: =E6&"|"&F6&" ("&E6&")" -> GENE|General (GENE) | I6: 10 | J6: Earthworks | K6: =I6&"|"&J6&" ("&I6&")" -> 10|Earthworks (10) | M6: 0 | N6: Initial revision | O6: =M6&"|"&N6&" ("&M6&")" -> 0|Initial revision (0) | Q6: Y | R6: Yes | T6: AA | U6: Active
A7: TF | B7: Technical sheet | C7: =A7&"|"&B7&" ("&A7&")" -> TF|Technical sheet (TF) | E7: ARCH | F7: Architecture | G7: =E7&"|"&F7&" ("&E7&")" -> ARCH|Architecture (ARCH) | I7: 11 | J7: Foundations | K7: =I7&"|"&J7&" ("&I7&")" -> 11|Foundations (11) | M7: A | N7: Revision A | O7: =M7&"|"&N7&" ("&M7&")" -> A|Revision A (A) | Q7: N | R7: No | T7: AB | U7: Archive for As-Built
A8: CN | B8: Calculation Note | C8: =A8&"|"&B8&" ("&A8&")" -> CN|Calculation Note (CN) | E8: STAB | F8: Stability | G8: =E8&"|"&F8&" ("&E8&")" -> STAB|Stability (STAB) | I8: 12 | J8: Reinforcement | K8: =I8&"|"&J8&" ("&I8&")" -> 12|Reinforcement (12) | M8: B | N8: Revision B | O8: =M8&"|"&N8&" ("&M8&")" -> B|Revision B (B) | T8: AC | U8: Archive for the record
A9: PL | B9: Detailed drawing / Plan | C9: =A9&"|"&B9&" ("&A9&")" -> PL|Detailed drawing / Plan (PL) | E9: ELEC | F9: Electricity | G9: =E9&"|"&F9&" ("&E9&")" -> ELEC|Electricity (ELEC) | I9: 13 | J9: Masonry | K9: =I9&"|"&J9&" ("&I9&")" -> 13|Masonry (13) | M9: C | N9: Revision C | O9: =M9&"|"&N9&" ("&M9&")" -> C|Revision C (C)
A10: SA | B10: Sample | C10: =A10&"|"&B10&" ("&A10&")" -> SA|Sample (SA) | E10: SANI | F10: Sanitary | G10: =E10&"|"&F10&" ("&E10&")" -> SANI|Sanitary (SANI) | I10: 14 | J10: Insulation | K10: =I10&"|"&J10&" ("&I10&")" -> 14|Insulation (14) | M10: D | N10: Revision D | O10: =M10&"|"&N10&" ("&M10&")" -> D|Revision D (D)
C11: =A11&"|"&B11&" ("&A11&")" -> | () | E11: HVAC | F11: HVAC | G11: =E11&"|"&F11&" ("&E11&")" -> HVAC|HVAC (HVAC) | I11: 15 | J11: Roof | K11: =I11&"|"&J11&" ("&I11&")" -> 15|Roof (15) | M11: E | N11: Revision E | O11: =M11&"|"&N11&" ("&M11&")" -> E|Revision E (E)
C12: =A12&"|"&B12&" ("&A12&")" -> | () | E12: LIFT | F12: Lift | G12: =E12&"|"&F12&" ("&E12&")" -> LIFT|Lift (LIFT) | I12: 16 | J12: Doors and windows | K12: =I12&"|"&J12&" ("&I12&")" -> 16|Doors and windows (16) | M12: F | N12: Revision F | O12: =M12&"|"&N12&" ("&M12&")" -> F|Revision F (F)
C13: =A13&"|"&B13&" ("&A13&")" -> | () | E13: INFR | F13: Infrastructure | G13: =E13&"|"&F13&" ("&E13&")" -> INFR|Infrastructure (INFR) | I13: 17 | J13: Electricity | K13: =I13&"|"&J13&" ("&I13&")" -> 17|Electricity (17) | M13: G | N13: Revision G | O13: =M13&"|"&N13&" ("&M13&")" -> G|Revision G (G)
C14: =A14&"|"&B14&" ("&A14&")" -> | () | G14: =E14&"|"&F14&" ("&E14&")" -> | () | I14: 18 | J14: HVAC | K14: =I14&"|"&J14&" ("&I14&")" -> 18|HVAC (18) | M14: H | N14: Revision H | O14: =M14&"|"&N14&" ("&M14&")" -> H|Revision H (H)
C15: =A15&"|"&B15&" ("&A15&")" -> | () | G15: =E15&"|"&F15&" ("&E15&")" -> | () | I15: 19 | J15: Carpentry | K15: =I15&"|"&J15&" ("&I15&")" -> 19|Carpentry (19) | O15: =M15&"|"&N15&" ("&M15&")" -> | ()
C16: =A16&"|"&B16&" ("&A16&")" -> | () | G16: =E16&"|"&F16&" ("&E16&")" -> | () | K16: =I16&"|"&J16&" ("&I16&")" -> | () | O16: =M16&"|"&N16&" ("&M16&")" -> | ()
C17: =A17&"|"&B17&" ("&A17&")" -> | () | G17: =E17&"|"&F17&" ("&E17&")" -> | () | K17: =I17&"|"&J17&" ("&I17&")" -> | () | O17: =M17&"|"&N17&" ("&M17&")" -> | ()
C18: =A18&"|"&B18&" ("&A18&")" -> | () | G18: =E18&"|"&F18&" ("&E18&")" -> | () | K18: =I18&"|"&J18&" ("&I18&")" -> | () | O18: =M18&"|"&N18&" ("&M18&")" -> | ()
C19: =A19&"|"&B19&" ("&A19&")" -> | () | G19: =E19&"|"&F19&" ("&E19&")" -> | () | K19: =I19&"|"&J19&" ("&I19&")" -> | () | O19: =M19&"|"&N19&" ("&M19&")" -> | ()
C20: =A20&"|"&B20&" ("&A20&")" -> | () | G20: =E20&"|"&F20&" ("&E20&")" -> | () | K20: =I20&"|"&J20&" ("&I20&")" -> | () | O20: =M20&"|"&N20&" ("&M20&")" -> | ()
C21: =A21&"|"&B21&" ("&A21&")" -> | () | G21: =E21&"|"&F21&" ("&E21&")" -> | () | K21: =I21&"|"&J21&" ("&I21&")" -> | ()
C22: =A22&"|"&B22&" ("&A22&")" -> | () | G22: =E22&"|"&F22&" ("&E22&")" -> | () | K22: =I22&"|"&J22&" ("&I22&")" -> | ()
C23: =A23&"|"&B23&" ("&A23&")" -> | () | G23: =E23&"|"&F23&" ("&E23&")" -> | () | K23: =I23&"|"&J23&" ("&I23&")" -> | ()
C24: =A24&"|"&B24&" ("&A24&")" -> | () | G24: =E24&"|"&F24&" ("&E24&")" -> | () | K24: =I24&"|"&J24&" ("&I24&")" -> | ()
C25: =A25&"|"&B25&" ("&A25&")" -> | () | G25: =E25&"|"&F25&" ("&E25&")" -> | () | K25: =I25&"|"&J25&" ("&I25&")" -> | ()
C26: =A26&"|"&B26&" ("&A26&")" -> | () | G26: =E26&"|"&F26&" ("&E26&")" -> | () | K26: =I26&"|"&J26&" ("&I26&")" -> | ()
C27: =A27&"|"&B27&" ("&A27&")" -> | () | G27: =E27&"|"&F27&" ("&E27&")" -> | () | K27: =I27&"|"&J27&" ("&I27&")" -> | ()

Sheet J3. Naming
A1: For this steps, you will be accompanied by your delivery engineer
A3: I3. Document code and file naming convention
A4: How will the code and file names will look like?
A5: Generally the code is a combination of some of the information hereabove, separated by an hyphen.
A6: Example of code: ARCH-TF-03
A8: Formats
A9: Code | B9: [PROJET-CODE]-{{company_project_document_type}}-{{company_project_package}-{{company_project_number}}
A10: Filename convention | B10: {{document_code}}-{{document-free-title}}-{{company_project_revision}}
A11: Example | B11: CP-TS-AR-001-File description-A.pdf
A13: Configuration actions
B14: 1. Create the mask for document code using the mustach notation
B15: 2. Create the regular expression for extraction the metadata from filename
B16: Tip : use regex101.com

Sheet K. Doc templates
A3: K. Document Templates
A4: Please provide existing templates for the documents if applicable
A6: Cover sheets | C6: Provided?
B7: Data Sheet Approval Cover Sheet
B8: Settlement Approval Cover Sheet
B9: Status Approval Cover Sheet
B10: Subcontractor Approval Cover Sheet
B11: Financial progress Approaal Cover Sheet
A13: List reports
B14: Document register (approval tracking list)
A16: Requirements
B17: Specifications for workflows (delays, …)
B18: Specifications for as-built (structure, naming convention, …)

Sheet J. Workflows old
A1: For this step, you will be accompanied by your dedicated customer success manager
A3: J. Define the approval sequences
A4: Here you define who is contributing to the workflow, in which order, and under which configuration
A5: Duplicate the colored cells to create a define a new workflow template.
A14: WORKFLOW TEMPLATE 1 | B14: Preset values | C14: STEP 1 | D14: STEP 2 | E14: STEP 3
A15: Workflow template(s)
A16: General template
A17: Step name | C17: Advice
A18: Delays | C18: 10 WD
A19: Potential contributors (= roles) | C19: AR
C20: BH
C21: IS
A23: Outcomes (1)
A24: Positive outcomes (= go to next step) | C24: A (Aanvaard)
C25: O (Aanvaard met opmerking)
C26: N (Niet betrokken)
A27: Negative outcomes (= stop workflow) (1) | C27: R (Geweigerd)
A29: Presets of workflow template(s) (values and contributors) (2)
A30: PRJ - VISA ARCH (General template) | B30: Default values | C30: AR (mandatory)
C31: BH
A33: PRJ - VISA Ingenieur en Studiebureau (General template) | B33: Default values | C33: AR (mandatory)
C34: IRS
C35: BH
A38: (1) Parallel steps only stop when all contributors have completed their task
A39: (2) Indicate mandatory contributors
A41: Configuration actions
B42: 1. Configure workflow start card(s)
B43: 2. Configure workflow answer card(s)
B44: 3. Configure workflow template and presets
B45: 4. Configure cover page report
B46: 5. Configure workflow list report

Sheet Lookups
A1: Project privileges | B1: Cooperlink privileges | C1: Sharing rule | D1: Type of fields | E1: Links | F1: Workflows types | G1: Access Rights | H1: Partner type
A2: Project contributor | B2: Site administrator | C2: Manual sharing | D2: Free text | E2: is linked to | F2: 1 step workflow | G2: T | H2: Free guest
A3: Project responsible | B3: Project manager | C3: Automatic sharing | D3: List of values (single select) | E3: is not linked | F3: 2 steps workflow | G3: TR | H3: With License
B4: Basic user | D4: List of values (multi-select) | E4: is mirrored from parent | F4: 3 steps workflow | G4: TRW
D5: Yes/No | E5: is a floating folder | G5: TRWD
D6: Manual number
D7: Automatic number
D8: User / Partner
D9: Date
D10: Fixed value (not editable)
